BEGIN:VCALENDAR
VERSION:2.0
PRODID:-//Orvault Bouge dans le Bon Cens - ECPv6.8.3//NONSGML v1.0//EN
CALSCALE:GREGORIAN
METHOD:PUBLISH
X-ORIGINAL-URL:https://www.associationorvaultobbc.fr
X-WR-CALDESC:Évènements pour Orvault Bouge dans le Bon Cens
REFRESH-INTERVAL;VALUE=DURATION:PT1H
X-Robots-Tag:noindex
X-PUBLISHED-TTL:PT1H
BEGIN:VTIMEZONE
TZID:Europe/Paris
BEGIN:DAYLIGHT
TZOFFSETFROM:+0100
TZOFFSETTO:+0200
TZNAME:CEST
DTSTART:20250330T010000
END:DAYLIGHT
BEGIN:STANDARD
TZOFFSETFROM:+0200
TZOFFSETTO:+0100
TZNAME:CET
DTSTART:20251026T010000
END:STANDARD
END:VTIMEZONE
BEGIN:VEVENT
DTSTART;TZID=Europe/Paris:20250123T201500
DTEND;TZID=Europe/Paris:20250123T223000
DTSTAMP:20260419T172828
CREATED:20241017T132639Z
LAST-MODIFIED:20250217T162938Z
UID:139-1737663300-1737671400@www.associationorvaultobbc.fr
SUMMARY:Assemblée générale Annuelle Janvier 2025
DESCRIPTION:Le Conseil d’Administration vous invite à assister à l’Assemblée Générale (AG) annuelle de l’OBBC qui se\ntiendra salle Pacaille le jeudi 23 janvier 2025 de 20h15 à 22h15 . \nC’est LE moment de l’année où les adhérent.e.s et les membres du CA peuvent se rencontrer pour échanger sur l’association : son activité\, ses orientations\, ses perspectives et les diverses questions qui peuvent se poser.\nCette année \, une nouveauté \, le collectif de citoyens ENCIO (issu du Conseil de la Transition Ecologique) viendra présenter le projet d’énergie citoyenne qu’ils portent au sein de l’OBBC.\nNotre AG annuelle est ouverte aux sympathisants aussi\, n’hésitez pas à venir nous rencontrer pour mieux nous connaitre et peut être contribuer à nos actions en fonction de vos disponibilités .On vous attend !
URL:https://www.associationorvaultobbc.fr/event/assemblee-generale-annuelle-janvier-2025/
CATEGORIES:Assemblée générale
ATTACH;FMTTYPE=image/jpeg:https://www.associationorvaultobbc.fr/wp-content/uploads/2024/10/Carte-de-voeux-2025pptx.jpg
END:VEVENT
END:VCALENDAR