BEGIN:VCALENDAR
VERSION:2.0
PRODID:-//Orvault Bouge dans le Bon Cens - ECPv6.8.3//NONSGML v1.0//EN
CALSCALE:GREGORIAN
METHOD:PUBLISH
X-WR-CALNAME:Orvault Bouge dans le Bon Cens
X-ORIGINAL-URL:https://www.associationorvaultobbc.fr
X-WR-CALDESC:Évènements pour Orvault Bouge dans le Bon Cens
REFRESH-INTERVAL;VALUE=DURATION:PT1H
X-Robots-Tag:noindex
X-PUBLISHED-TTL:PT1H
BEGIN:VTIMEZONE
TZID:Europe/Paris
BEGIN:DAYLIGHT
TZOFFSETFROM:+0100
TZOFFSETTO:+0200
TZNAME:CEST
DTSTART:20240331T010000
END:DAYLIGHT
BEGIN:STANDARD
TZOFFSETFROM:+0200
TZOFFSETTO:+0100
TZNAME:CET
DTSTART:20241027T010000
END:STANDARD
END:VTIMEZONE
BEGIN:VEVENT
DTSTART;TZID=Europe/Paris:20240907T100000
DTEND;TZID=Europe/Paris:20240907T100000
DTSTAMP:20260419T222519
CREATED:20241017T125452Z
LAST-MODIFIED:20241017T133546Z
UID:130-1725703200-1725703200@www.associationorvaultobbc.fr
SUMMARY:Forum des Associations 7 septembre 2024
DESCRIPTION:Si vous voulez mieux nous connaître\, c’est cet après-midi au Forum des Associations à la Choliere.\n\n\nRecrutement des participants à un nouveau Défi climat . On fait la chasse au gaspillage énergétique à partir du mois d’Octobre!\n\n\nNotre panneau photovoltaïque est branché et si le soleil reste présent \, il produit!\n\n\nOn vous attend à partir de 14h! A tout à l’heure
URL:https://www.associationorvaultobbc.fr/event/forum-des-associations-7-septembre-2024/
LOCATION:Stade Cholière Orvault\, France
ATTACH;FMTTYPE=image/jpeg:https://www.associationorvaultobbc.fr/wp-content/uploads/2024/10/Photo-forum.jpg
END:VEVENT
END:VCALENDAR